BEGIN:VCALENDAR
VERSION:2.0
PRODID:-//81.169.145.161//NONSGML kigkonsult.se iCalcreator 2.20//
CALSCALE:GREGORIAN
METHOD:PUBLISH
X-WR-TIMEZONE:Europe/Berlin
BEGIN:VEVENT
UID:event2174@Neuwieder Schwimmverein 09 e.V.
DTSTAMP:20260424T205910Z
CATEGORIES:Wettkampf
DESCRIPTION:Nachwuchsschwimmfest - Koblenz\nKategorie: Wettkampf\nICS-Link:
  https://www.nsv09.de/index.php?option=com_jem&view=event&id=2174:nachwuch
 sschwimmfest-koblenz\n
DTSTART;TZID=Europe/Berlin:20260315T100000
DTEND;TZID=Europe/Berlin:20260315T160000
LOCATION:Beatusbad - Koblenz\,Lindenstraße 36\,56073 Koblenz
SUMMARY:Nachwuchsschwimmfest - Koblenz
URL:https://www.nsv09.de/index.php?option=com_jem&view=event&id=2174:nachwu
 chsschwimmfest-koblenz
END:VEVENT
END:VCALENDAR